BEGIN:VCALENDAR
VERSION:2.0
PRODID:-//wp-events-plugin.com//7.2.3.1//EN
TZID:Europe/London
X-WR-TIMEZONE:Europe/London
BEGIN:VEVENT
UID:1@frogmorestreetgallery.co.uk
DTSTART;TZID=Europe/London:20240525T103000
DTEND;TZID=Europe/London:20240527T163000
DTSTAMP:20240517T143746Z
URL:https://frogmorestreetgallery.co.uk/events/crickhowell-open-studios/
SUMMARY:Crickhowell Open Studios
DESCRIPTION:Free entry to numerous venues showing a wonderful variety of ar
 t including paintings\, printmaking\, textiles\, sculpture\, jewellery\, a
 nd ceramics and glass presents the perfect excuse to visit Crickhowell dur
 ing the Spring Bank Weekend 25 - 27 May 2024 for the popular Crickhowell O
 pen Studio weekend. \n\nThe Frogmore Street Gallery offers an exciting opp
 ortunity for us to demonstrate what we have to offer.\n\nSome of our membe
 rs will be demonstrating their skills at the gallery over the weekend.
CATEGORIES:Demonstration,Open Studio
END:VEVENT
BEGIN:VTIMEZONE
TZID:Europe/London
X-LIC-LOCATION:Europe/London
BEGIN:DAYLIGHT
DTSTART:20240331T020000
TZOFFSETFROM:+0000
TZOFFSETTO:+0100
TZNAME:BST
END:DAYLIGHT
END:VTIMEZONE
END:VCALENDAR