BEGIN:VCALENDAR
VERSION:2.0
PRODID:-//wp-events-plugin.com//7.2.3.1//EN
TZID:Europe/London
X-WR-TIMEZONE:Europe/London
BEGIN:VEVENT
UID:5@frogmorestreetgallery.co.uk
DTSTART;TZID=Europe/London:20260701T103000
DTEND;TZID=Europe/London:20260701T123000
DTSTAMP:20260421T044910Z
URL:https://frogmorestreetgallery.co.uk/events/drawing-for-beginners-with-
 annie-kemp-2026-07-01/
SUMMARY:Drawing for Beginners with Annie Kemp
DESCRIPTION:Come and learn the visual language of drawing. This course is 
  designed for the complete beginner\, but would also be suitable for anyo
 ne with experience wishing to improve their skills\, as it may offer a new
  approach to their drawing.\nThe main objective of the course is to teach 
 you how to draw through learning how to see. Responding to what your eyes 
 are telling you\, and moving away  from the restrictive  mechanisms of t
 he logical patterns of thought. Thus allowing for the more intuitive\, flu
 id and creative thinking process to come forward.\nThis course of  8 sess
 ions will be structured through a series of exercises and techniques \, ea
 ch of which will be the focus of a particular lesson. It will be designed 
 to help promote an understanding of drawing. In it's most basic terms\, ho
 w to translate three dimensional subject and form onto a two dimensional f
 ormat.\nAs you develop your own style\, your confidence will grow and you 
 will become proficient in all aspects within the medium of drawing.\n\nTea
 cher :Annie Kemp. With over 30 years of experience producing my own work a
 nd teaching Fine Art\, Art history and more recently stained glass and gla
 ss fusion\, I hope to be able to inspire and provide the right tools and s
 trategy  for  students  to discover  and enjoy their own abilities wit
 hin the technique of drawing.\n\n\nSummer Drawing Course : July 1st - Aug
 ust 19th. Every Wednesday 10.30am -12.30 pm\n£200 for the course to be pa
 id in advance.\nContact: annierobina57@hotmail.com\n
CATEGORIES:Drawing for Beginners
LOCATION:Frogmore Street Gallery\, Frogmore Street Gallery\, 20 Frogmore St
 reet\, Abergavenny\, Monmouthshire\, NP7 5AH\, Wales\, United Kingdom
X-APPLE-STRUCTURED-LOCATION;VALUE=URI;X-ADDRESS=Frogmore Street Gallery\, 2
 0 Frogmore Street\, Abergavenny\, Monmouthshire\, NP7 5AH\, Wales\, United
  Kingdom;X-APPLE-RADIUS=100;X-TITLE=Frogmore Street Gallery:geo:0,0
END:VEVENT
BEGIN:VTIMEZONE
TZID:Europe/London
X-LIC-LOCATION:Europe/London
BEGIN:DAYLIGHT
DTSTART:20260329T020000
TZOFFSETFROM:+0000
TZOFFSETTO:+0100
TZNAME:BST
END:DAYLIGHT
END:VTIMEZONE
END:VCALENDAR