BEGIN:VCALENDAR
VERSION:2.0
PRODID:-//wp-events-plugin.com//7.2.3.1//EN
TZID:Europe/London
X-WR-TIMEZONE:Europe/London
BEGIN:VEVENT
UID:3@frogmorestreetgallery.co.uk
DTSTART;TZID=Europe/London:20240801T103000
DTEND;TZID=Europe/London:20240831T163000
DTSTAMP:20240813T140026Z
URL:https://frogmorestreetgallery.co.uk/events/joy-saunders-exhibition/
SUMMARY:Joy Saunders Exhibition
DESCRIPTION:August’s guest exhibition in the upstairs exhibition space is
  a display of work by artist Joy Saunders.
CATEGORIES:Exhibition
END:VEVENT
BEGIN:VTIMEZONE
TZID:Europe/London
X-LIC-LOCATION:Europe/London
BEGIN:DAYLIGHT
DTSTART:20240331T020000
TZOFFSETFROM:+0000
TZOFFSETTO:+0100
TZNAME:BST
END:DAYLIGHT
END:VTIMEZONE
END:VCALENDAR